BEGIN:VCALENDAR
VERSION:2.0
PRODID:-//eventon.com NONSGML v1.0//EN
CALSCALE:GREGORIAN
METHOD:PUBLISH
BEGIN:VEVENT
UID:69ea12f6b83c1
DTSTAMP:20260423T123918Z
DTSTART:20260515T100000Z
DTEND:20260515T100000Z
LOCATION:
SUMMARY:CfA: Postdoctoral Fellowships 2026\,  ERC project Local Law under Rome\,  The Hebrew University of Jerusalem
DESCRIPTION:CfA: Postdoctoral Fellowships 2026&nbsp; The ERC project&nbsp;L
 ocal Law under Rome&nbsp;is offering a number of Postdoctoral fellowships a
 t the Hebrew University of Jerusalem&nbsp;beginning October 2026\,  or as s
 oon as possible thereafter. Scholars who have received their Ph.D. after Oc
 tober 1st&nbsp;2021 or will submit their Ph.D. no later than the beginning 
 of[..]\nhttps://israel-classics.org/events/cfa-postdoctoral-fellowships-202
 6-erc-project-local-law-under-rome-the-hebrew-university-of-jerusalem/
URL:https://israel-classics.org/events/cfa-postdoctoral-fellowships-2026-erc-project-local-law-under-rome-the-hebrew-university-of-jerusalem/
END:VEVENT
END:VCALENDAR