BEGIN:VCALENDAR
VERSION:2.0
PRODID:-//eventon.com NONSGML v1.0//EN
CALSCALE:GREGORIAN
METHOD:PUBLISH
BEGIN:VEVENT
UID:69ea12e833533
DTSTAMP:20260423T123904Z
DTSTART:20260426T060000Z
DTEND:20260426T121500Z
LOCATION:
SUMMARY:The Transmission of Knowledge in Late Antiquity and the Early Middle Ages
DESCRIPTION:The Transmission of Knowledge in Late Antiquity and the Early M
 iddle Ages Sun\,  26/04/2026 The conference will be held on Zoom. The link 
 to the meeting will be sent to the participants 2 days prior to the meeting
 .   This workshop examines how knowledge was transmitted in Late Antiquity
  and[..]\nhttps://israel-classics.org/events/the-transmission-of-knowledge-
 in-late-antiquity-and-the-early-middle-ages/
URL:https://israel-classics.org/events/the-transmission-of-knowledge-in-late-antiquity-and-the-early-middle-ages/
END:VEVENT
END:VCALENDAR