BEGIN:VCALENDAR
VERSION:2.0
PRODID:-//eventon.com NONSGML v1.0//EN
CALSCALE:GREGORIAN
METHOD:PUBLISH
BEGIN:VEVENT
UID:69ea3cab178b3
DTSTAMP:20260423T153715Z
DTSTART:20260412T150000Z
DTEND:20260412T163000Z
LOCATION:
SUMMARY:Prof. Douglas Cairns ( University of Edinburgh)\,  "Hybris\,  Slavery and Dishonor"; Opening words by Prof. David Sider (NYU)
DESCRIPTION:The Classical Forum for Contemporary Issues\,  the Israel Ins
 titute for Advanced Studies\,  and the Department of Classical Studies at 
 Bar Ilan University\,  are pleased to invite you to a talk by    Professo
 r Douglas Cairns: &#8220;Hybris\,  Slavery and Dishonor&#8221;   Opening w
 ords by Professor David Sider (NYU)    The talk will take place[..]\nhttp
 s://israel-classics.org/events/prof-douglas-cairns-university-of-edinburgh-
 hybris-slavery-and-dishonor-opening-words-by-prof-david-sider-nyu/
URL:https://israel-classics.org/events/prof-douglas-cairns-university-of-edinburgh-hybris-slavery-and-dishonor-opening-words-by-prof-david-sider-nyu/
END:VEVENT
END:VCALENDAR