BEGIN:VCALENDAR
VERSION:2.0
PRODID:-//eventon.com NONSGML v1.0//EN
CALSCALE:GREGORIAN
METHOD:PUBLISH
BEGIN:VEVENT
UID:69ea55b2221f5
DTSTAMP:20260423T172402Z
DTSTART:20260220T130000Z
DTEND:20260220T143000Z
LOCATION:
SUMMARY:Artificial Intelligence and Neo-Latin Studies: Prospects and Concerns
DESCRIPTION:ISPCS is a member in EUROCLASSICA\,  and from this organization
  we received the following announcement: Dear Colleagues\,  The Committee f
 or Digital Resources of the International Association for Neo-Latin Studies
  is pleased to invite you to a roundtable discussion entitled&nbsp;Artifici
 al Intelligence and Neo-Latin Studies: Prospects and Concerns\,  to be held
  online\, [..]\nhttps://israel-classics.org/events/artificial-intelligence-
 and-neo-latin-studies-prospects-and-concerns/
URL:https://israel-classics.org/events/artificial-intelligence-and-neo-latin-studies-prospects-and-concerns/
END:VEVENT
END:VCALENDAR