BEGIN:VCALENDAR
VERSION:2.0
PRODID:-//eventon.com NONSGML v1.0//EN
CALSCALE:GREGORIAN
METHOD:PUBLISH
BEGIN:VEVENT
UID:69ea6c8fcc26f
DTSTAMP:20260423T190135Z
DTSTART:20260305T223000Z
DTEND:20260306T120000Z
LOCATION:
SUMMARY:First Steps towards a Tailored LLM for Greek and Latin Scientific Texts (Hybrid Workshop)
DESCRIPTION:מוזמנות ומוזמנים להשתתף בסדנה בינ
 לאומית היברידית (אפשר גם אונליין) לבניית 
 תשתית למודל שפה ייעודי לחיבורים מדעיים ב
 וונית ולטינית.  הסדנה מעשית ומיועדת לחו
 רים\,  לא למתכנתים – עובדים יחד על יצירת 
 אגר שאלות־ותשובות שישמש לאימון כלי AI בר
 מה מחקרית. השתתפות היא הזדמנות להשפיע ע
 ל עתיד ה&#8211;AI במדעי הרוח\,  לרכוש הבנה 
 בפנים של איך מודלים כאלה נבנים\,  ולהצ
 רף לקהילה שיתופית (כולל קרדיט אקדמי ע
  התרומה). פרטים נוספים והרשמה במסמך המ
 ורף. You are warmly invited to participate in an international hybrid w
 orkshop (with an online participation option) focused[..]\nhttps://israel-c
 lassics.org/events/first-steps-towards-a-tailored-llm-for-greek-and-latin-s
 cientific-texts-hybrid-workshop/
URL:https://israel-classics.org/events/first-steps-towards-a-tailored-llm-for-greek-and-latin-scientific-texts-hybrid-workshop/
END:VEVENT
END:VCALENDAR