BEGIN:VCALENDAR
VERSION:2.0
PRODID:-//eventon.com NONSGML v1.0//EN
CALSCALE:GREGORIAN
METHOD:PUBLISH
BEGIN:VEVENT
UID:69ea8d9a7d4f8
DTSTAMP:20260423T212234Z
DTSTART:20260306T100000Z
DTEND:20260306T100000Z
LOCATION:
SUMMARY:Call for Applications: Doctoral and Post-Doctoral Scholarships - The ERC project ROMANA at the HUJI - The Roman Turn among Jews\,  Greek Pagans and Christians -
DESCRIPTION:TheERC project Romana &#8211; The Roman Turn among Jews\,  Gree
 k Pagans and Christians is offering a number of visiting doctoral and postd
 octoral fellowships at the Hebrew University of Jerusalem beginning October
  2026\,  or as soon as possible thereafter.&nbsp;&nbsp; Eligible are either
  doctoral students who wish to visit for up to[..]\nhttps://israel-classics
 .org/events/call-for-applications-doctoral-and-post-doctoral-scholarships-t
 he-erc-project-romana-at-the-huji-the-roman-turn-among-jews-greek-pagans-an
 d-christians/
URL:https://israel-classics.org/events/call-for-applications-doctoral-and-post-doctoral-scholarships-the-erc-project-romana-at-the-huji-the-roman-turn-among-jews-greek-pagans-and-christians/
END:VEVENT
END:VCALENDAR