BEGIN:VCALENDAR
VERSION:2.0
PRODID:-//eventon.com NONSGML v1.0//EN
CALSCALE:GREGORIAN
METHOD:PUBLISH
BEGIN:VEVENT
UID:69eaa4250d5e0
DTSTAMP:20260423T225845Z
DTSTART:20260122T141500Z
DTEND:20260122T154500Z
LOCATION:Https://tau-ac-il.zoom.us/j/83891151445?pwd=PBw7dbkUvylb1yRsjMguZGgByOQ8Ow.1
SUMMARY:Patrick Finglass (University of Bristol)\,  'Alcaeus\,  Antimenidas\,  Ascalon: Greek Mercenary Service in the Ancient Near East and the Testimony of Strabo'
DESCRIPTION:שלום רב\,  &nbsp; הנכם מוזמנים להרצאתו 
 בזום של פרופסור&nbsp;Patrick Finglass&nbsp;במסגרת הסמ
 ינר המחלקתי של החוג ללימודים קלאסיים: ביו
 ם חמישי\,  22/1/2026\,  בשעה 16:15. &nbsp; מצורפת ההזמ
 ה עם כל הפרטים. &nbsp; קישור לזום – בהזמנה\,  
 וגם כאן: Https://tau-ac-il.zoom.us/j/83891151445?pwd=PBw7dbkUvylb1yRs
 jMguZGgByOQ8Ow.1&nbsp; &nbsp; &nbsp; כל טוב\,  נאוה\nhttps://israe
 l-classics.org/events/patrick-finglass-university-of-bristol-alcaeus-antime
 nidas-ascalon-greek-mercenary-service-in-the-ancient-near-east-and-the-test
 imony-of-strabo/var/event_access
URL:https://israel-classics.org/events/patrick-finglass-university-of-bristol-alcaeus-antimenidas-ascalon-greek-mercenary-service-in-the-ancient-near-east-and-the-testimony-of-strabo/var/event_access
END:VEVENT
END:VCALENDAR