BEGIN:VCALENDAR
VERSION:2.0
PRODID:-//eventon.com NONSGML v1.0//EN
CALSCALE:GREGORIAN
METHOD:PUBLISH
BEGIN:VEVENT
UID:69eabc57f04d8
DTSTAMP:20260424T004159Z
DTSTART:20260118T180000Z
DTEND:20260118T193000Z
LOCATION:https://biu-ac-il.zoom.us/j/7173643749?omn=83521340483
SUMMARY:Prof. Raanan Eichler (Bar-Ilan University)\,  "Greek Words in the Hebrew Bible"
DESCRIPTION:The Greek and Hebrew research group at Bar Ilan&nbsp;is pleased
  to invite you to our next online meeting\,  scheduled for&nbsp;Sunday\,  1
 8 January 2026 at 8:00pm Israel time. The presence of Greek words in neighb
 oring languages offers us a rare opportunity to increase our understanding 
 of the lexical range and variation[..]\nhttps://israel-classics.org/events/
 prof-raanan-eichler-bar-ilan-university-greek-words-in-the-hebrew-bible/var
 /event_access
URL:https://israel-classics.org/events/prof-raanan-eichler-bar-ilan-university-greek-words-in-the-hebrew-bible/var/event_access
END:VEVENT
END:VCALENDAR