BEGIN:VCALENDAR
VERSION:2.0
PRODID:-//eventon.com NONSGML v1.0//EN
CALSCALE:GREGORIAN
METHOD:PUBLISH
BEGIN:VEVENT
UID:69ead12d3aaed
DTSTAMP:20260424T021053Z
DTSTART:20260202T153000Z
DTEND:20260202T173000Z
LOCATION:
SUMMARY:An event dedicated to Giorgos Seferis (1900-1971)
DESCRIPTION:שלום רב\,  אני מאוד שמחה להזמין אותכ
 ם/ן לאירוע תרבות שהמחלקה ללימודים קלאסיי
 —יוון ורומא באוניברסיטת בר-אילן מארגנת 
 חד עם שגרירות יוון בישראל\,  לרגל היום הבי
 נלאומי לשפה היוונית. האירוע יתקיים בקמפו
  בר-אילן והוא יוקדש למשורר וזוכה פרס נובל
  לספרות\,  יורגוס ספריס.   הכניסה חופשית\,  
 אל בגלל מספר מקומות מוגבל\,  נדרשת הרשמה מ
 אש: gremb.tlv@mfa.gr  פרטים[..]\nhttps://israel-classics.org/even
 ts/an-event-dedicated-to-giorgos-seferis-1900-1971/
URL:https://israel-classics.org/events/an-event-dedicated-to-giorgos-seferis-1900-1971/
END:VEVENT
END:VCALENDAR