BEGIN:VCALENDAR
VERSION:2.0
PRODID:-//eventon.com NONSGML v1.0//EN
CALSCALE:GREGORIAN
METHOD:PUBLISH
BEGIN:VEVENT
UID:69eaeb194944f
DTSTAMP:20260424T040129Z
DTSTART:20260120T094500Z
DTEND:20260120T120000Z
LOCATION:
SUMMARY:Early Christianity and Second Temple Judaism Colloquium in Honor of Prof. Cana Werman's Retirement from Teaching
DESCRIPTION:11:45 Reception&nbsp; 12:10 Greetings&nbsp; &nbsp; &nbsp; &nbsp
 ; &nbsp; &nbsp;Prof. Effie Shoham-Steiner\,  Ben-Gurion University of the N
 egev&nbsp; &nbsp; &nbsp; &nbsp; &nbsp; &nbsp;Prof. Daniella Talmon-Heller\,
   Ben-Gurion University of the Negev&nbsp; &nbsp; &nbsp; &nbsp; &nbsp; &nbs
 p;Prof. NiritBen-Aryeh Debbie\,  Ben-Gurion University of the Negev&nbsp; 1
 2:30 Prof. Roland Deines\,  InternationaleHochschule Liebenzell: “Jesus a
 s Member of[..]\nhttps://israel-classics.org/events/early-christianity-and-
 second-temple-judaism-colloquium-in-honor-of-prof-cana-wermans-retirement-f
 rom-teaching/
URL:https://israel-classics.org/events/early-christianity-and-second-temple-judaism-colloquium-in-honor-of-prof-cana-wermans-retirement-from-teaching/
END:VEVENT
END:VCALENDAR