BEGIN:VCALENDAR
VERSION:2.0
PRODID:-//eventon.com NONSGML v1.0//EN
CALSCALE:GREGORIAN
METHOD:PUBLISH
BEGIN:VEVENT
UID:69eb00828e406
DTSTAMP:20260424T053250Z
DTSTART:20260121T123000Z
DTEND:20260121T140000Z
LOCATION:
SUMMARY:Georgy Kantor (Faculty of Classics\,  University of Oxford)\,  'A New Edition of the lex Antonia de Termessibus:  Politics and Law in the 70s BC'
DESCRIPTION:The Department of Classical Studies&nbsp;and&nbsp;the&nbsp;Loca
 l Law under Rome Project&nbsp;are glad to invite you to a lecture by &nbsp;
  Prof. Georgy Kantor Faculty of Classics\,  University of Oxford &nbsp; “
 A New Edition of the lex Antonia de Termessibus: Politics and Law in the 70
 s BC” &nbsp; Wednesday\,  21.1.2026 at 14:30 Room[..]\nhttps://israel-cla
 ssics.org/events/georgy-kantor-faculty-of-classics-university-of-oxford-a-n
 ew-edition-of-the-lex-antonia-de-termessibus-politics-and-law-in-the-70s-bc
 /
URL:https://israel-classics.org/events/georgy-kantor-faculty-of-classics-university-of-oxford-a-new-edition-of-the-lex-antonia-de-termessibus-politics-and-law-in-the-70s-bc/
END:VEVENT
END:VCALENDAR