BEGIN:VCALENDAR
VERSION:2.0
PRODID:-//eventon.com NONSGML v1.0//EN
CALSCALE:GREGORIAN
METHOD:PUBLISH
BEGIN:VEVENT
UID:69eb1a2bc509b
DTSTAMP:20260424T072219Z
DTSTART:20260113T121500Z
DTEND:20260113T154500Z
LOCATION:
SUMMARY:Chami Shiff (Emek Ha-Shaveh)\,  'Archaeology and Politics: The Use of Archaeological Sites Beyond the Green Line'
DESCRIPTION:Chami Shiff (Emek Ha-Shaveh)\,  'Archaeology and Politics: The 
 Use of Archaeological Sites Beyond the Green Line'\nhttps://israel-classics
 .org/events/chami-shiff-emek-ha-shaveh-archaeology-and-politics-the-use-of-
 archaeological-sites-beyond-the-green-line/
URL:https://israel-classics.org/events/chami-shiff-emek-ha-shaveh-archaeology-and-politics-the-use-of-archaeological-sites-beyond-the-green-line/
END:VEVENT
END:VCALENDAR