BEGIN:VCALENDAR
VERSION:2.0
PRODID:-//eventon.com NONSGML v1.0//EN
CALSCALE:GREGORIAN
METHOD:PUBLISH
BEGIN:VEVENT
UID:69eb39f28258a
DTSTAMP:20260424T093754Z
DTSTART:20260831T060000Z
DTEND:20260902T160000Z
LOCATION:
SUMMARY:Digital resources\,  tools and applications for the study of texts in ancient Greek and Latin
DESCRIPTION:The idea of the workshop was raised in relation with our&nbsp;I
 SF&nbsp;research on “Nicolaus of Damsacus&#8217;s writings – commentary
 \,  translation and digital analysis”. The objective of the workshop is t
 o bring together in Israel scholars involved in digital applications and di
 gital research for the study of classical texts in Ancient Greek[..]\nhttps
 ://israel-classics.org/events/digital-resources-tools-and-applications-for-
 the-study-of-texts-in-ancient-greek-and-latin/
URL:https://israel-classics.org/events/digital-resources-tools-and-applications-for-the-study-of-texts-in-ancient-greek-and-latin/
END:VEVENT
END:VCALENDAR