BEGIN:VCALENDAR
VERSION:2.0
PRODID:-//eventon.com NONSGML v1.0//EN
CALSCALE:GREGORIAN
METHOD:PUBLISH
BEGIN:VEVENT
UID:69eb503c246bc
DTSTAMP:20260424T111300Z
DTSTART:20260215T210000Z
DTEND:20260215T210000Z
LOCATION:
SUMMARY:CfP: לופט געשעפט/כלאם פאדי. נושא הכנס: "טובים השניים: מבט היסטורי על הזוגי\,  הכפול והמנוגד.״
DESCRIPTION:קול קורא להרצאות ל״לופט געשעפט/כלא
 ם פאדי&#8221;\,  הכנס הארצי הרביעי לתלמידות ו
 למידי מחקר מתקדמים במדעי הרוח. הכנס נערך 
 בתמיכת בית הספר להיסטוריה ולימודים אזורי
 ים ע״ש צבי יעבץ באוניברסיטת תל אביב. הכנס 
 יתקיים באוניברסיטת תל אביב בתאריכים 17-18 ב
 מאי 2026. נושאו של הכנס: &#8220;טובים השניים: מב
 ט היסטורי על הזוגי\,  הכפול והמנוגד.״ מצור
 [..]\nhttps://israel-classics.org/events/cfp-%d7%9c%d7%95%d7%a4%d7%98-%d7%
 92%d7%a2%d7%a9%d7%a2%d7%a4%d7%98-%d7%9b%d7%9c%d7%90%d7%9d-%d7%a4%d7%90%d7%9
 3%d7%99-%d7%a0%d7%95%d7%a9%d7%90-%d7%94%d7%9b%d7%a0%d7%a1-%d7%98%d7%95%d7%9
 1%d7%99/
URL:https://israel-classics.org/events/cfp-%d7%9c%d7%95%d7%a4%d7%98-%d7%92%d7%a2%d7%a9%d7%a2%d7%a4%d7%98-%d7%9b%d7%9c%d7%90%d7%9d-%d7%a4%d7%90%d7%93%d7%99-%d7%a0%d7%95%d7%a9%d7%90-%d7%94%d7%9b%d7%a0%d7%a1-%d7%98%d7%95%d7%91%d7%99/
END:VEVENT
END:VCALENDAR