BEGIN:VCALENDAR
VERSION:2.0
PRODID:-//eventon.com NONSGML v1.0//EN
CALSCALE:GREGORIAN
METHOD:PUBLISH
BEGIN:VEVENT
UID:69eb64ee4cf9e
DTSTAMP:20260424T124118Z
DTSTART:20260208
DTEND:20260209
LOCATION:
SUMMARY:סדנת קדמוס לאפיגרפיה ותיעוד טכנולוגי
DESCRIPTION:שלום רב\,  נשמח להזמין אתכם להשתתף ב
 סדנת קדמוס לאפיגרפיה ותיעוד טכנולוגי\,  ש
 תקיים בין התאריכים 8–11 בפברואר 2026. מטרת 
 סדנה היא העברה מקצועית ומעשית של ידע אפי
 גרפי\,  היכרות שיטתית עם תחום האפיגרפיה\,  
 חשיפה לכלים\,  שיטות וממשקי עבודה עדכניים
  במחקר ובתיעוד כתובות. הסדנה מתקיימת בשית
 וף אוניברסיטת בר־אילן\,  המכללה האקדמית ל
 נדסה עזריאלי ירושלים\,  והאוניברסיטה העב
 ית[..]\nhttps://israel-classics.org/events/%d7%a1%d7%93%d7%a0%d7%aa-%d7%
 a7%d7%93%d7%9e%d7%95%d7%a1-%d7%9c%d7%90%d7%a4%d7%99%d7%92%d7%a8%d7%a4%d7%99
 %d7%94-%d7%95%d7%aa%d7%99%d7%a2%d7%95%d7%93-%d7%98%d7%9b%d7%a0%d7%95%d7%9c%
 d7%95%d7%92%d7%99/
URL:https://israel-classics.org/events/%d7%a1%d7%93%d7%a0%d7%aa-%d7%a7%d7%93%d7%9e%d7%95%d7%a1-%d7%9c%d7%90%d7%a4%d7%99%d7%92%d7%a8%d7%a4%d7%99%d7%94-%d7%95%d7%aa%d7%99%d7%a2%d7%95%d7%93-%d7%98%d7%9b%d7%a0%d7%95%d7%9c%d7%95%d7%92%d7%99/
END:VEVENT
END:VCALENDAR