BEGIN:VCALENDAR
VERSION:2.0
PRODID:-//eventon.com NONSGML v1.0//EN
CALSCALE:GREGORIAN
METHOD:PUBLISH
BEGIN:VEVENT
UID:69eb7d21ce4d7
DTSTAMP:20260424T142433Z
DTSTART:20260105T123000Z
DTEND:20260105T161500Z
LOCATION:
SUMMARY:Rethinking Triumph: Giulio Romano between Rome\,  Jerusalem\,  Mantua and the Louvre
DESCRIPTION:Dear colleagues\,  You are warmly invited to a one-day conferen
 ce\,  “Rethinking Triumph: Giulio Romano between Rome\,  Jerusalem\,  Man
 tua and the Louvre\, ” to be held on 5 January 2026 at the Cymbalista Cen
 ter Auditorium\,  Tel Aviv University. The conference emerges from long-sta
 nding intellectual conversations on the enduring effects and affects of[..]
 \nhttps://israel-classics.org/events/rethinking-triumph-giulio-romano-betwe
 en-rome-jerusalem-mantua-and-the-louvre/
URL:https://israel-classics.org/events/rethinking-triumph-giulio-romano-between-rome-jerusalem-mantua-and-the-louvre/
END:VEVENT
END:VCALENDAR