BEGIN:VCALENDAR
VERSION:2.0
PRODID:-//eventon.com NONSGML v1.0//EN
CALSCALE:GREGORIAN
METHOD:PUBLISH
BEGIN:VEVENT
UID:69eb92ec95b3e
DTSTAMP:20260424T155732Z
DTSTART:20251230T121500Z
DTEND:20251230T134500Z
LOCATION:
SUMMARY:Ofer Pogorlsky (Hebrew University)\,  ‘Church\,  Army\,  and Family in Late Antique Shivta’
DESCRIPTION:The Department of Archaeology is pleased to invite you to our n
 ext seminar meeting: Ofer Pogorelsky Hebrew University Church\,  Army\,  an
 d Family in Late Antique Shivta The lecture will take place on Tuesday\,  D
 ecember 30th\,  Building 72\,  Room 209 14.15 &#8211; 15.45 With kind regar
 ds\,  Michal Birkenfeld\,  Assaf Kleiman\,  and[..]\nhttps://israel-classic
 s.org/events/ofer-pogorlsky-hebrew-university-church-army-and-family-in-lat
 e-antique-shivta/
URL:https://israel-classics.org/events/ofer-pogorlsky-hebrew-university-church-army-and-family-in-late-antique-shivta/
END:VEVENT
END:VCALENDAR