BEGIN:VCALENDAR
VERSION:2.0
PRODID:-//eventon.com NONSGML v1.0//EN
CALSCALE:GREGORIAN
METHOD:PUBLISH
BEGIN:VEVENT
UID:69ebab5a1a613
DTSTAMP:20260424T174146Z
DTSTART:20251224T110000Z
DTEND:20251224T110000Z
LOCATION:
SUMMARY:CfP: Announcement of the 29th ACADEMIA HOMERICA -- 10-19 July 2026 -- *Deadline for applications: 31st of March 2026*
DESCRIPTION:CfP: Announcement of the 29th ACADEMIA HOMERICA -- 10-19 July 2
 026 -- *Deadline for applications: 31st of March 2026*\nhttps://israel-clas
 sics.org/events/cfp-announcement-of-the-29th-academia-homerica-10-19-july-2
 026-deadline-for-applications-31st-of-march-2026/
URL:https://israel-classics.org/events/cfp-announcement-of-the-29th-academia-homerica-10-19-july-2026-deadline-for-applications-31st-of-march-2026/
END:VEVENT
END:VCALENDAR