BEGIN:VCALENDAR
VERSION:2.0
PRODID:-//eventon.com NONSGML v1.0//EN
CALSCALE:GREGORIAN
METHOD:PUBLISH
BEGIN:VEVENT
UID:69ebc81f51665
DTSTAMP:20260424T194431Z
DTSTART:20260101T143000Z
DTEND:20260101T164500Z
LOCATION:
SUMMARY:יהודים ונוצרים במאות הראשונות
DESCRIPTION:יו&#8221;ר: פרופ&#8217; איילת אבן-עזרא\,  ר
 אש החוג להיסטוריה&nbsp; &nbsp; דברי ברכה: פרופ&#
 8217; יצחק חן\,  ראש המכון הישראלי ללימודים מ
 תקדמים ד&#8221;ר עודד זינגר\,  ראש החוג להיסט
 ריה של עם ישראל ויהדות זמננו &nbsp;&nbsp;&nbsp;&nbs
 p;&nbsp;&nbsp;&nbsp;&nbsp;&nbsp;&nbsp;&nbsp;&nbsp;&nbsp;&nbsp;&nbsp;&nbsp;&
 nbsp;&nbsp;&nbsp; &nbsp;&nbsp; &nbsp; פרופ&#8217; משה דוד הר: 
 וד רוקח ז&#8221;ל (1930 &#8211; 2024) – מפעלו המחקרי 
 ואישיותו &nbsp; פרופ&#8217; אלברט באומגרטן:&nbsp;
 יהודי[..]\nhttps://israel-classics.org/events/%d7%99%d7%94%d7%95%d7%9
 3%d7%99%d7%9d-%d7%95%d7%a0%d7%95%d7%a6%d7%a8%d7%99%d7%9d-%d7%91%d7%9e%d7%90
 %d7%95%d7%aa-%d7%94%d7%a8%d7%90%d7%a9%d7%95%d7%a0%d7%95%d7%aa/
URL:https://israel-classics.org/events/%d7%99%d7%94%d7%95%d7%93%d7%99%d7%9d-%d7%95%d7%a0%d7%95%d7%a6%d7%a8%d7%99%d7%9d-%d7%91%d7%9e%d7%90%d7%95%d7%aa-%d7%94%d7%a8%d7%90%d7%a9%d7%95%d7%a0%d7%95%d7%aa/
END:VEVENT
END:VCALENDAR