BEGIN:VCALENDAR
VERSION:2.0
PRODID:-//eventon.com NONSGML v1.0//EN
CALSCALE:GREGORIAN
METHOD:PUBLISH
BEGIN:VEVENT
UID:69ea12e79ddfc
DTSTAMP:20260423T123903Z
DTSTART:20260512T110000Z
DTEND:20260512T130000Z
LOCATION:
SUMMARY:A Book Launch of Haklai\,  Merav\,  "Money in Imperial Rome: Legal Diversity and Systemic Complexity" (Oxford\,  2025)
DESCRIPTION:המחלקה להיסטוריה כללית באוניברסיט
 ת בן-גוריון בנגב מתכבדת להזמין את הציבור 
 אירוע השקת ספרה של ד&#8221;ר מרב חקלאי Money in I
 mperial Rome Legal Diversity and Systemic Complexity (OUP\,  2025) יום 
 לישי\,  12 במאי 2026\,  14:15 – 15:45 בניין 74 חדר 301\,
   קמפוס מרקוס\,  אוניברסיטת בן-גוריון בנגב 
 יישאו דברים: &nbsp;&nbsp; ד&#8221;ר חנן[..]\nhttps://israel-
 classics.org/events/a-book-launch-of-haklai-merav-money-in-imperial-rome-le
 gal-diversity-and-systemic-complexity-oxford-2025/
URL:https://israel-classics.org/events/a-book-launch-of-haklai-merav-money-in-imperial-rome-legal-diversity-and-systemic-complexity-oxford-2025/
END:VEVENT
END:VCALENDAR