BEGIN:VCALENDAR
VERSION:2.0
PRODID:-//eventon.com NONSGML v1.0//EN
CALSCALE:GREGORIAN
METHOD:PUBLISH
BEGIN:VEVENT
UID:69ea483655a3d
DTSTAMP:20260423T162630Z
DTSTART:20260603
DTEND:20260604
LOCATION:
SUMMARY:ISPCS 54th Annual Conference
DESCRIPTION:ISPCS 54th Annual Conference\nhttps://israel-classics.org/event
 s/ispcs-54th-annual-conference/
URL:https://israel-classics.org/events/ispcs-54th-annual-conference/
END:VEVENT
END:VCALENDAR