BEGIN:VCALENDAR
VERSION:2.0
PRODID:-//eventon.com NONSGML v1.0//EN
CALSCALE:GREGORIAN
METHOD:PUBLISH
BEGIN:VEVENT
UID:69ea5dc85e28f
DTSTAMP:20260423T175832Z
DTSTART:20250729T070000Z
DTEND:20250809T090000Z
LOCATION:
SUMMARY:קול קורא להשתתפות בסדנת לטינית בדוברובניק\,  קרואטיה  - מרץ/אפריל 2026 - *הקול הקורא נסגר בתאריך 10.08.2025*
DESCRIPTION:EUROCLASSICA  ACADEMIA  RAGUSINA 2026 Dubrovnik\,  Croatia  
 Reminder: Academia Ragusina is one of the Euroclassica “schools “\,  co
 nceived as a biennial symposium\,  combination of scholarly lectures and di
 dactic workshops. It is intended for high-school students (primarily those 
 attending classical gymnasiums\,  but also other schools)\,  university stu
 dents of classical philology\,  history\,  national[..]\nhttps://israel-cla
 ssics.org/events/%d7%a7%d7%95%d7%9c-%d7%a7%d7%95%d7%a8%d7%90-%d7%9c%d7%94%d
 7%a9%d7%aa%d7%aa%d7%a4%d7%95%d7%aa-%d7%91%d7%a1%d7%93%d7%a0%d7%aa-%d7%9c%d7
 %98%d7%99%d7%a0%d7%99%d7%aa-%d7%91%d7%93%d7%95%d7%91%d7%a8%d7%95/
URL:https://israel-classics.org/events/%d7%a7%d7%95%d7%9c-%d7%a7%d7%95%d7%a8%d7%90-%d7%9c%d7%94%d7%a9%d7%aa%d7%aa%d7%a4%d7%95%d7%aa-%d7%91%d7%a1%d7%93%d7%a0%d7%aa-%d7%9c%d7%98%d7%99%d7%a0%d7%99%d7%aa-%d7%91%d7%93%d7%95%d7%91%d7%a8%d7%95/
END:VEVENT
END:VCALENDAR