BEGIN:VCALENDAR
VERSION:2.0
PRODID:-//eventon.com NONSGML v1.0//EN
CALSCALE:GREGORIAN
METHOD:PUBLISH
BEGIN:VEVENT
UID:69ea738c69fce
DTSTAMP:20260423T193124Z
DTSTART:20250701T151500Z
DTEND:20250701T164500Z
LOCATION:
SUMMARY:Gideon Manelis\,  'Decoding the Production of Voice: Galen’s Anatomy and the Physiology of Voice Production'
DESCRIPTION:On Tuesday\,  July 1st at 18:15\,  the Hebrew University Classi
 cs Departmental Seminar will host Mr. Gideon Manelis\,  who will talk about
 : &nbsp; “Decoding the Production of Voice: Galen’s Anatomy and the Phy
 siology of Voice&nbsp;Production”&nbsp; &nbsp; The seminar will take plac
 e at room number 47607.\nhttps://israel-classics.org/events/gideon-manelis-
 decoding-the-production-of-voice-galens-anatomy-and-the-physiology-of-voice
 -production/
URL:https://israel-classics.org/events/gideon-manelis-decoding-the-production-of-voice-galens-anatomy-and-the-physiology-of-voice-production/
END:VEVENT
END:VCALENDAR