BEGIN:VCALENDAR
VERSION:2.0
PRODID:-//eventon.com NONSGML v1.0//EN
CALSCALE:GREGORIAN
METHOD:PUBLISH
BEGIN:VEVENT
UID:69ea8cf60ffc1
DTSTAMP:20260423T211950Z
DTSTART:20250625T080000Z
DTEND:20250625T093000Z
LOCATION:https://huji.zoom.us/j/87861194248?pwd=T28E6cicw4YfHNrvPUDuIbJkJX7QaC.1
SUMMARY:The Notion of the Self in Seneca's Writings
DESCRIPTION:We are pleased to announce the upcoming&nbsp;International Work
 shop&nbsp;on&nbsp;The Notion of the Self in Seneca&#8217;s Writings\, &nbsp
 ;sponsored by the&nbsp;Limud Bechevruta&nbsp;program at The Hebrew Universi
 ty of Jerusalem and the ERC project&nbsp;Romana&nbsp;&#8211; The Roman Turn
  Among Jews\,  Greek Pagans\,  and Christians. &nbsp; Time:&nbsp;June 25\, 
  11:00-12:30 (GMT 3). &nbsp; Program: The workshop will be held[..]\nhttps:
 //israel-classics.org/events/the-notion-of-the-self-in-senecas-writings/var
 /event_access
URL:https://israel-classics.org/events/the-notion-of-the-self-in-senecas-writings/var/event_access
END:VEVENT
END:VCALENDAR