BEGIN:VCALENDAR
VERSION:2.0
PRODID:-//eventon.com NONSGML v1.0//EN
CALSCALE:GREGORIAN
METHOD:PUBLISH
BEGIN:VEVENT
UID:69eaa45c97534
DTSTAMP:20260423T225940Z
DTSTART:20250625T151500Z
DTEND:20250625T164500Z
LOCATION:
SUMMARY:Wordplay and Roleplay in the Hippias Major
DESCRIPTION:We are delighted to announce the next meeting of the workshop s
 eries&nbsp;Gender&nbsp;Stereotypes&nbsp;in Greco-Roman Antiquity. This sess
 ion features&nbsp;Asaf Roth&nbsp;(University of Pennsylvania)\,  who&nbsp;w
 ill give a talk titled &#8220;Wordplay and Roleplay in the&nbsp;Hippias Maj
 or.&#8221; The event is open to students at all levels in Classical Studies
  and related fields. &nbsp;Time:Wednesday\,  June 25\,  2025[..]\nhttps://i
 srael-classics.org/events/wordplay-and-roleplay-in-the-hippias-major/
URL:https://israel-classics.org/events/wordplay-and-roleplay-in-the-hippias-major/
END:VEVENT
END:VCALENDAR