BEGIN:VCALENDAR
VERSION:2.0
PRODID:-//eventon.com NONSGML v1.0//EN
CALSCALE:GREGORIAN
METHOD:PUBLISH
BEGIN:VEVENT
UID:69eabbe54c7ef
DTSTAMP:20260424T004005Z
DTSTART:20250610T111500Z
DTEND:20250610T124500Z
LOCATION:
SUMMARY:Gideon Avni (Israel Antiquities Authority & Hebrew University of Jerusalem)\,  'Negev Connectivity between West and East: Some Reflections from Late Antiquity'
DESCRIPTION:Gideon Avni (Israel Antiquities Authority & Hebrew University o
 f Jerusalem)\,  'Negev Connectivity between West and East: Some Reflections
  from Late Antiquity'\nhttps://israel-classics.org/events/gideon-avni-israe
 l-antiquities-authority-hebrew-university-of-jerusalem-negev-connectivity-b
 etween-west-and-east-some-reflections-from-late-antiquity/
URL:https://israel-classics.org/events/gideon-avni-israel-antiquities-authority-hebrew-university-of-jerusalem-negev-connectivity-between-west-and-east-some-reflections-from-late-antiquity/
END:VEVENT
END:VCALENDAR