BEGIN:VCALENDAR
VERSION:2.0
PRODID:-//eventon.com NONSGML v1.0//EN
CALSCALE:GREGORIAN
METHOD:PUBLISH
BEGIN:VEVENT
UID:69ead0039053d
DTSTAMP:20260424T020555Z
DTSTART:20250618T133000Z
DTEND:20250618T150000Z
LOCATION:
SUMMARY:Anita Reisler (Hebrew University of Jerusalem)\,  'Self-Control as a Masculine Quality in Literature of Moral Exhortation'
DESCRIPTION:We are delighted to announce the next meeting of the workshop s
 eries&nbsp;Gender&nbsp;Stereotypes&nbsp;in Greco-Roman Antiquity. This sess
 ion\,  taking place both in-person and online\,  features&nbsp;Anita Reisle
 r&nbsp;(Hebrew University of Jerusalem)\,  who&nbsp;will give a talk titled
 &nbsp;Absence of Anger: Self-Control as a Masculine Quality in Literature o
 f Moral Exhortation.&nbsp;&nbsp; &nbsp; Time:Wednesday\,  June 18\,  2025 1
 6:30-18:00[..]\nhttps://israel-classics.org/events/anita-reisler-hebrew-uni
 versity-of-jerusalem-self-control-as-a-masculine-quality-in-literature-of-m
 oral-exhortation/
URL:https://israel-classics.org/events/anita-reisler-hebrew-university-of-jerusalem-self-control-as-a-masculine-quality-in-literature-of-moral-exhortation/
END:VEVENT
END:VCALENDAR