BEGIN:VCALENDAR
VERSION:2.0
PRODID:-//eventon.com NONSGML v1.0//EN
CALSCALE:GREGORIAN
METHOD:PUBLISH
BEGIN:VEVENT
UID:69eaea18d7138
DTSTAMP:20260424T035712Z
DTSTART:20250527T140000Z
DTEND:20250527T153000Z
LOCATION:
SUMMARY:Doron Mendels: Memory\,  Nationalism\,  History\,  Judaism
DESCRIPTION:The European Forum at the Hebrew University cordially invites y
 ou to an event in Honour of Doron Mendels: Memory\,  Nationalism\,  History
 \,  Judaism&nbsp; Friends\,  Colleagues and Students in Israel and Abroad g
 ather in honour of Doron.&nbsp; The event will be held at the Hebrew Univer
 sity\,  Mt. Scopus Campus\,  Maiersdorf Faculty Club\, [..]\nhttps://israel
 -classics.org/events/doron-mendels-memory-nationalism-history-judaism/
URL:https://israel-classics.org/events/doron-mendels-memory-nationalism-history-judaism/
END:VEVENT
END:VCALENDAR