BEGIN:VCALENDAR
VERSION:2.0
PRODID:-//eventon.com NONSGML v1.0//EN
CALSCALE:GREGORIAN
METHOD:PUBLISH
BEGIN:VEVENT
UID:69eb014a5f71a
DTSTAMP:20260424T053610Z
DTSTART:20250528T113000Z
DTEND:20250528T130000Z
LOCATION:
SUMMARY:מר אוהד כ״ץ\,   'תרגום כאבל: קטולוס והמודל הקלימכאי'
DESCRIPTION:מר אוהד כ״ץ\,  'תרגום כאבל: קטולוס וה
 מודל הקלימכאי'\nhttps://israel-classics.org/events/%d7%9e%d7%a8
 -%d7%90%d7%95%d7%94%d7%93-%d7%9b%d7%b4%d7%a5-%d7%aa%d7%a8%d7%92%d7%95%d7%9d
 -%d7%9b%d7%90%d7%91%d7%9c-%d7%a7%d7%98%d7%95%d7%9c%d7%95%d7%a1-%d7%95%d7%94
 %d7%9e%d7%95%d7%93%d7%9c-%d7%94/
URL:https://israel-classics.org/events/%d7%9e%d7%a8-%d7%90%d7%95%d7%94%d7%93-%d7%9b%d7%b4%d7%a5-%d7%aa%d7%a8%d7%92%d7%95%d7%9d-%d7%9b%d7%90%d7%91%d7%9c-%d7%a7%d7%98%d7%95%d7%9c%d7%95%d7%a1-%d7%95%d7%94%d7%9e%d7%95%d7%93%d7%9c-%d7%94/
END:VEVENT
END:VCALENDAR