BEGIN:VCALENDAR
VERSION:2.0
PRODID:-//eventon.com NONSGML v1.0//EN
CALSCALE:GREGORIAN
METHOD:PUBLISH
BEGIN:VEVENT
UID:69eb19a76af0a
DTSTAMP:20260424T072007Z
DTSTART:20250609T100000Z
DTEND:20250609T150000Z
LOCATION:
SUMMARY:Professor Benjamin Henri Isaac on the occasion of his 80th birthday
DESCRIPTION:13:00&nbsp;Gathering&nbsp; 13:30 Greetings Prof. David Harel\, 
  President\,  The Israel Academy of Sciences and Humanities&nbsp; 13:30&nbs
 p;1st Session&nbsp; Chair: Prof. Margalit Finkelberg\,  Vice President\,  T
 he Israel Academy of Sciences and Humanities&nbsp; Prof. Walter Ameling\,  
 University of Cologne Coexistence and Interactions of Ethnic Groups in Alex
 andria&nbsp; Prof. Maren R. Niehoff\,  Academy Member\,  The[..]\nhttps://i
 srael-classics.org/events/professor-benjamin-henri-isaac-on-the-occasion-of
 -his-80th-birthday/
URL:https://israel-classics.org/events/professor-benjamin-henri-isaac-on-the-occasion-of-his-80th-birthday/
END:VEVENT
END:VCALENDAR