BEGIN:VCALENDAR
VERSION:2.0
PRODID:-//eventon.com NONSGML v1.0//EN
CALSCALE:GREGORIAN
METHOD:PUBLISH
BEGIN:VEVENT
UID:69eb33391fb5d
DTSTAMP:20260424T090913Z
DTSTART:20250528T153000Z
DTEND:20250528T170000Z
LOCATION:https://docs.google.com/forms/d/e/1FAIpQLSfJkxO90KXtQbL6m9TbPzxk5WZ9XSlMkSwJjqxkpF9XH7oLpg/viewform
SUMMARY:Dorota Dutsch (UC Santa Barbara)\,  "Of Philosophy and Bathwater: Gender and Thought in Pythagorean Letters"
DESCRIPTION:We are thrilled to announce the third and final part of the hyb
 rid workshop series on&nbsp;Gender Stereotypes in Greco-Roman Antiquity&nbs
 p;(2024-25). &nbsp; Details on the next four meetings (May-July) are availa
 ble&nbsp;here. &nbsp; The upcoming session\,  featuring&nbsp;Dorota Dutsch&
 nbsp;(University of California\,  Santa Barbara)\,  will be held&nbsp;onlin
 e. It is titled&nbsp;&#8220;Of Philosophy and Bathwater: Gender[..]\nhttps:
 //israel-classics.org/events/dorota-dutsch-uc-santa-barbara-of-philosophy-a
 nd-bathwater-gender-and-thought-in-pythagorean-letters/var/event_access
URL:https://israel-classics.org/events/dorota-dutsch-uc-santa-barbara-of-philosophy-and-bathwater-gender-and-thought-in-pythagorean-letters/var/event_access
END:VEVENT
END:VCALENDAR