BEGIN:VCALENDAR
VERSION:2.0
PRODID:-//eventon.com NONSGML v1.0//EN
CALSCALE:GREGORIAN
METHOD:PUBLISH
BEGIN:VEVENT
UID:69eb4a5c571e2
DTSTAMP:20260424T104756Z
DTSTART:20250512T131500Z
DTEND:20250512T144500Z
LOCATION:
SUMMARY:Prof. Cristos C. Tsagalis (Aristotle University of Thessaloniki)\,  "The Tears of Diomedes: Allusion in Early Greek Epic"
DESCRIPTION:Prof. Cristos C. Tsagalis (Aristotle University of Thessaloniki
 )\,  "The Tears of Diomedes: Allusion in Early Greek Epic"\nhttps://israel-
 classics.org/events/prof-cristos-c-tsagalis-aristotle-university-of-thessal
 oniki-the-tears-of-diomedes-allusion-in-early-greek-epic/
URL:https://israel-classics.org/events/prof-cristos-c-tsagalis-aristotle-university-of-thessaloniki-the-tears-of-diomedes-allusion-in-early-greek-epic/
END:VEVENT
END:VCALENDAR