BEGIN:VCALENDAR
VERSION:2.0
PRODID:-//eventon.com NONSGML v1.0//EN
CALSCALE:GREGORIAN
METHOD:PUBLISH
BEGIN:VEVENT
UID:69eb60d94d0c0
DTSTAMP:20260424T122353Z
DTSTART:20250514T113000Z
DTEND:20250514T130000Z
LOCATION:
SUMMARY:Prof. Cristos C. Tsagalis (Aristotle University of Thessaloniki)\,  "Cyclic Epic: Some Fragments of Uncertain Placement"
DESCRIPTION:Prof. Cristos C. Tsagalis (Aristotle University of Thessaloniki
 )\,  "Cyclic Epic: Some Fragments of Uncertain Placement"\nhttps://israel-c
 lassics.org/events/prof-tsagalis-cyclic-epic-some-fragments-of-uncertain-pl
 acement/
URL:https://israel-classics.org/events/prof-tsagalis-cyclic-epic-some-fragments-of-uncertain-placement/
END:VEVENT
END:VCALENDAR