BEGIN:VCALENDAR
VERSION:2.0
PRODID:-//eventon.com NONSGML v1.0//EN
CALSCALE:GREGORIAN
METHOD:PUBLISH
BEGIN:VEVENT
UID:69eb7a0191ce5
DTSTAMP:20260424T141113Z
DTSTART:20250522T063000Z
DTEND:20250522T121500Z
LOCATION:
SUMMARY:מעבר למעבר: המאה הרביעית בארכיאולוגיה של תהליכים
DESCRIPTION:במהלך הסדנה ייוצגו מחקרים ארכאולו
 יים חדשים ותנתן במה לדיונים שיעסקו בתהלי
 כי שינוי על רקע המשכיות בחיי היומיום\,  מע
 כות התיישבות\,  מנהגי קבורה\,  ביטויים תרב
 תיים\,  ומסורות דתיות. &nbsp; מטרת האירוע היא
  לעורר אפיקי מחקר חדשים ולהעמיק את הבנתנו
  את התקופה הדינמית והמעצבת הזו באמצעות עי
 דוד שיח אקדמי ושילוב נקודות מבט חדשניות.\n
 https://israel-classics.org/events/%d7%9e%d7%a2%d7%91%d7%a8-%d7%9c%d7%9e%d7
 %a2%d7%91%d7%a8-%d7%94%d7%9e%d7%90%d7%94-%d7%94%d7%a8%d7%91%d7%99%d7%a2%d7%
 99%d7%aa-%d7%91%d7%90%d7%a8%d7%9b%d7%99%d7%90%d7%95%d7%9c%d7%95%d7%92%d7%99
 %d7%94/
URL:https://israel-classics.org/events/%d7%9e%d7%a2%d7%91%d7%a8-%d7%9c%d7%9e%d7%a2%d7%91%d7%a8-%d7%94%d7%9e%d7%90%d7%94-%d7%94%d7%a8%d7%91%d7%99%d7%a2%d7%99%d7%aa-%d7%91%d7%90%d7%a8%d7%9b%d7%99%d7%90%d7%95%d7%9c%d7%95%d7%92%d7%99%d7%94/
END:VEVENT
END:VCALENDAR