BEGIN:VCALENDAR
VERSION:2.0
PRODID:-//eventon.com NONSGML v1.0//EN
CALSCALE:GREGORIAN
METHOD:PUBLISH
BEGIN:VEVENT
UID:69eb916a28719
DTSTAMP:20260424T155106Z
DTSTART:20250512T210000Z
DTEND:20250513T120000Z
LOCATION:
SUMMARY:Prof. Christos C. Tsagalis (Aristotle University of Thessaloniki)\,  "Flagging Transferred Motifs: The Tears of Diomedes in the Iliad"
DESCRIPTION:המחלקה ללימודים קלאסיים—יוון ורו
 א של אוניברסיטת בר-אילן שמחה להזמיכם/ן לס
 דנה ייעודית והרצאה שהתקיימו ב-13.5.2025 ע״י פ
 ופ׳ כריסטוס צאצאליס (Prof. Christos Tsagalis). פרטים
  נוספים בהזמנה המצורפת. \nhttps://israel-classics.org/e
 vents/prof-christos-tsagalis-flagging-transferred-motifs-the-tears-of-diome
 des-in-the-iliad/
URL:https://israel-classics.org/events/prof-christos-tsagalis-flagging-transferred-motifs-the-tears-of-diomedes-in-the-iliad/
END:VEVENT
END:VCALENDAR