BEGIN:VCALENDAR
VERSION:2.0
PRODID:-//eventon.com NONSGML v1.0//EN
CALSCALE:GREGORIAN
METHOD:PUBLISH
BEGIN:VEVENT
UID:69ebaae877cc5
DTSTAMP:20260424T173952Z
DTSTART:20250706
DTEND:20250707
LOCATION:
SUMMARY:קורס מרוכז ביוונית עתיקה סמסטר קיץ 2025
DESCRIPTION:החוג ללימודים קלאסיים באוני&#8217; ת&#
 8221;א ממשיך במסורת הקורסים המרוכזים בלטינ
 ת/יוונית עתיקה. 9.7.2025-4.9.2025 ימים א&#8217;-ה&#8217;
  שעות 10:00-15:00\nhttps://israel-classics.org/events/%d7%a7%d7%95%d7%a
 8%d7%a1-%d7%9e%d7%a8%d7%95%d7%9b%d7%96-%d7%91%d7%99%d7%95%d7%95%d7%a0%d7%99
 %d7%aa-%d7%a2%d7%aa%d7%99%d7%a7%d7%94-%d7%a1%d7%9e%d7%a1%d7%98%d7%a8-%d7%a7
 %d7%99%d7%a5-2025/
URL:https://israel-classics.org/events/%d7%a7%d7%95%d7%a8%d7%a1-%d7%9e%d7%a8%d7%95%d7%9b%d7%96-%d7%91%d7%99%d7%95%d7%95%d7%a0%d7%99%d7%aa-%d7%a2%d7%aa%d7%99%d7%a7%d7%94-%d7%a1%d7%9e%d7%a1%d7%98%d7%a8-%d7%a7%d7%99%d7%a5-2025/
END:VEVENT
END:VCALENDAR