BEGIN:VCALENDAR
VERSION:2.0
PRODID:-//eventon.com NONSGML v1.0//EN
CALSCALE:GREGORIAN
METHOD:PUBLISH
BEGIN:VEVENT
UID:69ebc723c32ea
DTSTAMP:20260424T194019Z
DTSTART:20250423T133000Z
DTEND:20250423T150000Z
LOCATION:
SUMMARY:Prof. Arnaud Zucker\,  'The Alleged Contradiction between Science and Poetry in the Light of Ancient Greek and Roman Texts'
DESCRIPTION:Modern discourse and contemporary scientific practice often ass
 ume a fundamental incompatibility between scientific inquiry and poetic for
 m. While this debate seems settled today\,  it remained open in antiquity. 
 In this talk\,  I revisit the stakes and conditions of this debate in the a
 ncient world\,  where metrical composition was widely employed[..]\nhttps:/
 /israel-classics.org/events/prof-arnaud-zucker-the-alleged-contradiction-be
 tween-science-and-poetry-in-the-light-of-ancient-greek-and-roman-texts/
URL:https://israel-classics.org/events/prof-arnaud-zucker-the-alleged-contradiction-between-science-and-poetry-in-the-light-of-ancient-greek-and-roman-texts/
END:VEVENT
END:VCALENDAR