BEGIN:VCALENDAR
VERSION:2.0
PRODID:-//eventon.com NONSGML v1.0//EN
CALSCALE:GREGORIAN
METHOD:PUBLISH
BEGIN:VEVENT
UID:69ebf2c14abf0
DTSTAMP:20260424T224625Z
DTSTART:20250421
DTEND:20250422
LOCATION:
SUMMARY:Paleography and Legal History Clinic
DESCRIPTION:Paleography and Legal History Clinic\nhttps://israel-classics.o
 rg/events/paleography-and-legal-history-clinic/
URL:https://israel-classics.org/events/paleography-and-legal-history-clinic/
END:VEVENT
END:VCALENDAR