BEGIN:VCALENDAR
VERSION:2.0
PRODID:-//eventon.com NONSGML v1.0//EN
CALSCALE:GREGORIAN
METHOD:PUBLISH
BEGIN:VEVENT
UID:69ec05d823a7e
DTSTAMP:20260425T000752Z
DTSTART:20250504
DTEND:20250505
LOCATION:
SUMMARY:Competing Elites: Constructing Religious Authority in Late Antiquity and the Early Middle Ages
DESCRIPTION:The research group\,  Remapping Local Elites in Late Antiquity\
 ,  based at the Mandel Scholion Research Center at the Hebrew University\, 
  is delighted to invitecolleagues and students to itsconcluding conference.
 \nhttps://israel-classics.org/events/competing-elites-constructing-religiou
 s-authority-in-late-antiquity-and-the-early-middle-ages/
URL:https://israel-classics.org/events/competing-elites-constructing-religious-authority-in-late-antiquity-and-the-early-middle-ages/
END:VEVENT
END:VCALENDAR