BEGIN:VCALENDAR
VERSION:2.0
PRODID:-//eventon.com NONSGML v1.0//EN
CALSCALE:GREGORIAN
METHOD:PUBLISH
BEGIN:VEVENT
UID:69ec1beb7301f
DTSTAMP:20260425T014203Z
DTSTART:20250520T111500Z
DTEND:20250520T124500Z
LOCATION:
SUMMARY:Shlomit Weksler-Bdolah\,  'Aelia Capitolina in Light of Recent Archaeological Research: What Have We Learned?'
DESCRIPTION:Shlomit Weksler-Bdolah\,  'Aelia Capitolina in Light of Recent 
 Archaeological Research: What Have We Learned?'\nhttps://israel-classics.or
 g/events/shlomit-weksler-bdolah-aelia-capitolina-in-light-of-recent-archaeo
 logical-research-what-have-we-learned/
URL:https://israel-classics.org/events/shlomit-weksler-bdolah-aelia-capitolina-in-light-of-recent-archaeological-research-what-have-we-learned/
END:VEVENT
END:VCALENDAR