BEGIN:VCALENDAR
VERSION:2.0
PRODID:-//eventon.com NONSGML v1.0//EN
CALSCALE:GREGORIAN
METHOD:PUBLISH
BEGIN:VEVENT
UID:69ec3151c796d
DTSTAMP:20260425T031321Z
DTSTART:20250408T111500Z
DTEND:20250408T124500Z
LOCATION:
SUMMARY:Gideon Avni\,  'Negev Connectivity between West and East: Some Reflections from Late Antiquity '
DESCRIPTION:Gideon Avni\,  'Negev Connectivity between West and East: Some 
 Reflections from Late Antiquity '\nhttps://israel-classics.org/events/gideo
 n-avni-negev-connectivity-between-west-and-east-some-reflections-from-late-
 antiquity/
URL:https://israel-classics.org/events/gideon-avni-negev-connectivity-between-west-and-east-some-reflections-from-late-antiquity/
END:VEVENT
END:VCALENDAR