BEGIN:VCALENDAR
VERSION:2.0
PRODID:-//eventon.com NONSGML v1.0//EN
CALSCALE:GREGORIAN
METHOD:PUBLISH
BEGIN:VEVENT
UID:69ec9de92dd49
DTSTAMP:20260425T105641Z
DTSTART:20250507T133000Z
DTEND:20250507T150000Z
LOCATION:
SUMMARY:Gender Stereotypes in Greco-Roman Antiquity - Third Lecture
DESCRIPTION:We are delighted to announce the second part of the workshop se
 ries on Gender Stereotypes in Greco-Roman Antiquity. Details on the next t
 hree meetings (March-May) are available here:  https://drive.google.com/f
 ile/d/1e_XMKZTxCadLlgp3ZwZzVvhBC9pUz9uT/view .  Information on later meet
 ings (May-July) will be communicated in due time.  In the second session i
 n the workshop Bonnie MacLachlan (Department of Classical[..]\nhttps://isra
 el-classics.org/events/bonnie-maclachlan-department-of-classical-studies-un
 iversityof-western-ontario-crossing-the-gender-and-species-divide-the-case-
 of-ancient-cyprus/
URL:https://israel-classics.org/events/bonnie-maclachlan-department-of-classical-studies-universityof-western-ontario-crossing-the-gender-and-species-divide-the-case-of-ancient-cyprus/
END:VEVENT
END:VCALENDAR