BEGIN:VCALENDAR
VERSION:2.0
PRODID:-//eventon.com NONSGML v1.0//EN
CALSCALE:GREGORIAN
METHOD:PUBLISH
BEGIN:VEVENT
UID:69ecb53d84a3c
DTSTAMP:20260425T123613Z
DTSTART:20250409T140000Z
DTEND:20250409T153000Z
LOCATION:
SUMMARY:Gender Stereotypes in Greco-Roman Antiquity - Second Lecture
DESCRIPTION:We are delighted to announce the second part of the workshop se
 ries on Gender Stereotypes in Greco-Roman Antiquity. Details on the next t
 hree meetings (March-May) are available here:  https://drive.google.com/f
 ile/d/1e_XMKZTxCadLlgp3ZwZzVvhBC9pUz9uT/view .  Information on later meet
 ings (May-July) will be communicated in due time.  In the second session i
 n the workshop Benjamin Wilck Wilck (Martin Buber[..]\nhttps://israel-class
 ics.org/events/benjamin-wilck-hebrew-universityof-jerusalem-do-women-have-a
 n-essence-aristotles-answer/
URL:https://israel-classics.org/events/benjamin-wilck-hebrew-universityof-jerusalem-do-women-have-an-essence-aristotles-answer/
END:VEVENT
END:VCALENDAR