BEGIN:VCALENDAR
VERSION:2.0
PRODID:-//eventon.com NONSGML v1.0//EN
CALSCALE:GREGORIAN
METHOD:PUBLISH
BEGIN:VEVENT
UID:69ecce35a8bc2
DTSTAMP:20260425T142245Z
DTSTART:20250326T150000Z
DTEND:20250326T163000Z
LOCATION:
SUMMARY:Gender Stereotypes in Greco-Roman Antiquity - First Lecture
DESCRIPTION:We are delighted to announce the second part of the workshop se
 ries on Gender Stereotypes in Greco-Roman Antiquity. Details on the next 
 three meetings (March-May) are available here:  https://drive.google.com/
 file/d/1e_XMKZTxCadLlgp3ZwZzVvhBC9pUz9uT/view .  Information on later meet
 ings (May-July) will be communicated in due time.  The upcoming session in
  the workshop\,  led by Marco Vespa (Hebrew University of Jerusalem)\, [.
 .]\nhttps://israel-classics.org/events/the-unbearable-lightness-of-bees-vir
 gil-georgics-book-iv-gender-normative-models-and-the-natural-exemplarity-of
 -non-human-animals-in-the-ancient-roman-world/
URL:https://israel-classics.org/events/the-unbearable-lightness-of-bees-virgil-georgics-book-iv-gender-normative-models-and-the-natural-exemplarity-of-non-human-animals-in-the-ancient-roman-world/
END:VEVENT
END:VCALENDAR