BEGIN:VCALENDAR
VERSION:2.0
PRODID:-//eventon.com NONSGML v1.0//EN
CALSCALE:GREGORIAN
METHOD:PUBLISH
BEGIN:VEVENT
UID:69ece43ca17d0
DTSTAMP:20260425T155644Z
DTSTART:20250304T160000Z
DTEND:20250304T180000Z
LOCATION:Online via Zoom
SUMMARY:פרופ' רונלד האטון (אוניברסיטת בריסטול)\,  אלות של אהבה ומלחמה בעת העתיקה
DESCRIPTION:  אנו מזמינים אתכם להצטרף אלינו לה
 צאה השלישית של תוכנית ההרצאות המקוונת של
  האגודה הישראלית לחקר דתות\,  אשר מתמקדת ה
 נה בנושא &#8216;דתות: בין סכסוכים לתקווה&#8217;
 . את ההרצאה יישא באנגלית פרופ&#8217; רונלד הא
 טון (אוניברסיטת בריסטול)\,  וכותרתה: &#8220;אל
 ות של אהבה ומלחמה בעת העתיקה&#8221;. ההרצאה ת
 תקיים ביום שלישי הקרוב (ה-4 במרץ) בשעה 18:00.[.
 .]\nhttps://israel-classics.org/events/%d7%a4%d7%a8%d7%95%d7%a4-%d7%a8%d7%9
 5%d7%a0%d7%9c%d7%93-%d7%94%d7%90%d7%98%d7%95%d7%9f-%d7%90%d7%95%d7%a0%d7%99
 %d7%91%d7%a8%d7%a1%d7%99%d7%98%d7%aa-%d7%91%d7%a8%d7%99%d7%a1%d7%98%d7%95%d
 7%9c/
URL:https://israel-classics.org/events/%d7%a4%d7%a8%d7%95%d7%a4-%d7%a8%d7%95%d7%a0%d7%9c%d7%93-%d7%94%d7%90%d7%98%d7%95%d7%9f-%d7%90%d7%95%d7%a0%d7%99%d7%91%d7%a8%d7%a1%d7%99%d7%98%d7%aa-%d7%91%d7%a8%d7%99%d7%a1%d7%98%d7%95%d7%9c/
END:VEVENT
END:VCALENDAR